BEGIN:VCALENDAR
VERSION:2.0
PRODID:-//3nity.com//3nity CMS//EN
BEGIN:VEVENT
SUMMARY:Vineyard Place Int Church Bible Study 7pm CST
UID:2026-07-18-1209985@www.wtrmr.org
SEQUENCE:0
STATUS:CONFIRMED
DTSTART:20260603T000000
DTEND:20260603T010000
DTSTAMP:20161222T120000
DESCRIPTION:Bible Study with Chief Apostle JC Allen OverSeer Dr. A Allen
URL:http://www.wtrmr.org
END:VEVENT
END:VCALENDAR
