BEGIN:VCALENDAR
VERSION:2.0
PRODID:-//3nity.com//3nity CMS//EN
BEGIN:VEVENT
SUMMARY:The Throne Room
UID:2026-07-18-1208949@www.wtrmr.org
SEQUENCE:0
STATUS:CONFIRMED
DTSTART:20260526T000000
DTEND:20260526T010000
DTSTAMP:20161222T120000
DESCRIPTION:The place men can come and Pray.
URL:http://www.wtrmr.org
END:VEVENT
END:VCALENDAR
