BEGIN:VCALENDAR
VERSION:2.0
PRODID:-//3nity.com//3nity CMS//EN
BEGIN:VEVENT
SUMMARY:Bible Study with Pastor Anthony Hardeman
UID:2026-07-18-1208806@www.wtrmr.org
SEQUENCE:0
STATUS:CONFIRMED
DTSTART:20260525T000000
DTEND:20260525T010000
DTSTAMP:20161222T120000
DESCRIPTION:Bible Study with Pastor Anthony Hardeman YouTube 7pm CST
URL:http://www.wtrmr.org
END:VEVENT
END:VCALENDAR
