BEGIN:VCALENDAR
VERSION:2.0
PRODID:-//3nity.com//3nity CMS//EN
BEGIN:VEVENT
SUMMARY:Sunday Message Where The Rubber Meets The Road Int
UID:2026-07-18-1208038@www.wtrmr.org
SEQUENCE:0
STATUS:CONFIRMED
DTSTART:20260419T000000
DTEND:20260419T010000
DTSTAMP:20161222T120000
DESCRIPTION:Sunday Message with Pastor Hardeman YouTube
URL:http://www.wtrmr.org
END:VEVENT
END:VCALENDAR
