BEGIN:VCALENDAR
VERSION:2.0
PRODID:-//3nity.com//3nity CMS//EN
BEGIN:VEVENT
SUMMARY:Bible Study with Pastor Tyrone Tate 6pm CST https://us05web.zoom.us/launch/edl?muid=69896ea1-da31-4afe-80d7-a55519b7271a Meeting ID: 833 3099 3982 Passcode: 367793
UID:2026-07-18-1208016@www.wtrmr.org
SEQUENCE:0
STATUS:CONFIRMED
DTSTART:20260519T000000
DTEND:20260519T010000
DTSTAMP:20161222T120000
DESCRIPTION:https://us05web.zoom.us/launch/edl?muid=69896ea1-da31-4afe-80d7-a55519b7271a\nMeeting ID: 833 3099 3982\nPasscode: 367793\n\n
URL:http://www.wtrmr.org
END:VEVENT
END:VCALENDAR
