BEGIN:VCALENDAR
VERSION:2.0
PRODID:-//3nity.com//3nity CMS//EN
BEGIN:VEVENT
SUMMARY:Bible Study with Pastor Tyrone Tate 6pm CST
UID:2026-07-18-1208012@www.wtrmr.org
SEQUENCE:0
STATUS:CONFIRMED
DTSTART:20260421T000000
DTEND:20260421T010000
DTSTAMP:20161222T120000
DESCRIPTION:
URL:http://www.wtrmr.org
END:VEVENT
END:VCALENDAR
