BEGIN:VCALENDAR
VERSION:2.0
PRODID:-//3nity.com//3nity CMS//EN
BEGIN:VEVENT
SUMMARY:The Kings Table 7pm CST
UID:2026-07-18-1207989@www.wtrmr.org
SEQUENCE:0
STATUS:CONFIRMED
DTSTART:20260507T000000
DTEND:20260507T010000
DTSTAMP:20161222T120000
DESCRIPTION:Where men can sharpen each other\nJoin Zoom Meeting\nhttps://us02web.zoom.us/j/84096515300\nMeeting ID: 840 9651 5300\n
URL:http://www.wtrmr.org
END:VEVENT
END:VCALENDAR
